BEGIN:VCALENDAR
VERSION:2.0
PRODID:-//wp-events-plugin.com//7.2.2.1//EN
TZID:Europe/Berlin
X-WR-TIMEZONE:Europe/Berlin
BEGIN:VEVENT
UID:294@digitalzentrum-hb-ol.de
DTSTART;TZID=Europe/Berlin:20251028T100000
DTEND;TZID=Europe/Berlin:20251028T104500
DTSTAMP:20250828T122333Z
URL:https://digitalzentrum-hb-ol.de/events/ki-und-cybersicherheit-zwischen
 -hype-vs-realitaet-2/
SUMMARY:KI und Cybersicherheit: Zwischen Hype vs. Realität
DESCRIPTION:Künstliche Intelligenz ist in aller Munde\, natürlich auch\, 
 wenn es um den Schutz vor Cyberangriffen geht. Aber was davon hat Substanz
 \, was ist Wunschdenken? Und wie können gerade kleine und mittlere Untern
 ehmen\, Start-ups oder Handwerksbetriebe echte Chancen erkennen\, ohne lee
 ren Versprechen auf den Leim zu gehen? 
ATTACH;FMTTYPE=image/jpeg:https://digitalzentrum-hb-ol.de/wp-content/uploa
 ds/2024/06/Cyber-7.jpg
CATEGORIES:Aus dem Netzwerk,Digitalisierung,Schulung,Workshop
END:VEVENT
BEGIN:VTIMEZONE
TZID:Europe/Berlin
X-LIC-LOCATION:Europe/Berlin
BEGIN:STANDARD
DTSTART:20251026T020000
TZOFFSETFROM:+0200
TZOFFSETTO:+0100
TZNAME:CET
END:STANDARD
END:VTIMEZONE
END:VCALENDAR